BEGIN:VCALENDAR
VERSION:2.0
PRODID:-//Squarespace Inc/Squarespace 6//v6//EN
BEGIN:VEVENT
UID:5cd4af746e9a7f2853e931c3@squarespace.com
DTSTAMP:20190510T020424Z
DTSTART:20190512T010000Z
DTEND:20190512T120000Z
SUMMARY:Mother's Day 2019
END:VEVENT
END:VCALENDAR
